BEGIN:VCALENDAR
VERSION:2.0
PRODID:-//Cruwys Morchard Parish Council//Meeting Calendar//EN
CALSCALE:GREGORIAN
METHOD:PUBLISH
BEGIN:VEVENT
UID:70445-20250313@cruwysmorchard-pc.gov.uk
DTSTAMP:20260422T124559Z
DTSTART;VALUE=DATE:20250313
DTEND;VALUE=DATE:20250314
SUMMARY:Council Meeting – 13 March 2025
DESCRIPTION:Full Council Meeting\nView details: https://cruwysmorchard-pc.gov.uk/meetings/council-meeting-13-march-2025/
URL:https://cruwysmorchard-pc.gov.uk/meetings/council-meeting-13-march-2025/
END:VEVENT
END:VCALENDAR
